Workbook
Name \: #REF!
Name \: #REF!
Name \: #REF!
Name \: #REF!
Name __ESTATE: [1]Options!$B$12
Name _def1999: '[2]1999'!#REF!
Name _def1999: '[3]1999'!#REF!
Name _def1999: '[3]1999'!#REF!
Name _def1999: '[3]1999'!#REF!
Name _def1999: '[3]1999'!#REF!
Name _def2000г: #REF!
Name _def2000г: #REF!
Name _def2000г: #REF!
Name _def2000г: #REF!
Name _def2000г: #REF!
Name _def2000г: #REF!
Name _def2001г: #REF!
Name _def2001г: #REF!
Name _def2001г: #REF!
Name _def2001г: #REF!
Name _def2001г: #REF!
Name _def2001г: #REF!
Name _def2002г: #REF!
Name _def2002г: #REF!
Name _def2002г: #REF!
Name _def2002г: #REF!
Name _def2002г: #REF!
Name _def2002г: #REF!
Name _inf2000: #REF!
Name _inf2000: #REF!
Name _inf2000: #REF!
Name _inf2000: #REF!
Name _inf2000: #REF!
Name _inf2000: #REF!
Name _inf2001: #REF!
Name _inf2001: #REF!
Name _inf2001: #REF!
Name _inf2001: #REF!
Name _inf2001: #REF!
Name _inf2001: #REF!
Name _inf2002: #REF!
Name _inf2002: #REF!
Name _inf2002: #REF!
Name _inf2002: #REF!
Name _inf2002: #REF!
Name _inf2002: #REF!
Name _inf2003: #REF!
Name _inf2003: #REF!
Name _inf2003: #REF!
Name _inf2003: #REF!
Name _inf2003: #REF!
Name _inf2003: #REF!
Name _inf2004: #REF!
Name _inf2004: #REF!
Name _inf2004: #REF!
Name _inf2004: #REF!
Name _inf2004: #REF!
Name _inf2004: #REF!
Name _inf2005: #REF!
Name _inf2005: #REF!

Sheet Вопросы
B2: Отчетность с расшифровками на | C2: 45291
A4: № | B4: Вопросы Фонда | C4: Шаблон | D4: Комментарии Заявителя | E4: Комментарии Фонда
B5: Общие вопросы по Проекту/Резюме/Бюджет Проекта
A6: 1. | B6: Просьба уточнить в какой форме было/будет осуществлено софинансирование Проекта за счет собственных средств (реинвестирование прибыли, займы акционеров, взнос в УК и т.п). В случае привлечения заемных/кредитных средств просим уточнить статус договоренностей, условия, заключен ли договор/сроки заключения (при наличии разместить в Личном кабинете раздел "Дополнительные документы").
A7: 2. | B7: В случае наличия в бюджете Проекта ранее понесенных затрат: 1. Просьба подготовить и разместить в ЛК в разделе "Дополнительные документы" Реестр ранее понесенных затрат по Проекту (далее - Реестр) в формате Excel (приложен Лист "Реестр"). После согласования Реестра с Фондом скан-копию Реестра с подписью и печатью просим разместить в ЛК в ячейке 1.7. 2. Реестр, загруженный в ячейку 1.7 необходимо подготовить по форме Фонда. Форма реестра - см. столбец "Шаблон". 3. В Личном кабинете в разделе "Дополнительные документы" просим разместить первичные документы (договоры, счета, акты и платежные поручения), подтверждающие приведенные в Реестре расходы. Первичные документы необходимо сгруппировать так, чтобы их было удобно сопоставлять с позициями из Реестра. Первичные документы можно разместить в ЛК в виде одной или нескольких архивных папок. Вес одной архивной папки не должен превышать 20-25 Мб. 4. Обращаем Ваше внимание, что в качестве ранее понесенных расходов принимаются затраты, осуществленные с целью реализации Проекта, и осуществленные не ранее 2 лет до даты подачи заявки в Фонд. В ранее понесенных затратах не учитываются процентные расходы ( в т.ч. по лизинговым платежам). 5. В качестве ранее понесенных расходов могут быть приняты только те расходы, по которым представлена вся первичная документация (договоры, платежные поручения, подтверждающие факт оплаты). Расходы принимаются по факту платежей. 6. Если платежи производились в иностранной валюте, то расходы в рублевом эквиваленте принимаются по курсу ЦБ РФ на дату платежа. В Реестре необходимо будет привести расчет. 7. Обращаем Ваше внимание, что в Реестре не учитываются инвестиции, возмещаемые или планируемые к возмещению за счет средств, выделяемых напрямую для поддержки проектов из бюджета (субсидии и т.п.). 8. Просим не включать в реестр затрат расходы, размер которых менее 100 тыс. руб.
A8: 3. | B8: Просьба привести перечень планируемых капитальных затрат (бюджет Проекта) в формате Excel с указанием документов, подтверждающих стоимость (лист Бюджет проекта) как в части средств займа, так в части будущего софинансирования Проекта. Просьба при наличии разместить в Личном кабинете в разделе Дополнительные документы заключенные договоры/коммерческие предложения поставщиков оборудования и иные документы, подтверждающие заложенный бюджет проекта. Обращаем Ваше внимание на необходимость указания в таблице перечня оборудования по позициям. Данные документы Вы можете объединить в один архивный файл.
A9: 4. | B9: Прошу указать основных отечественных и иностранных конкурентов по выпускаемой в рамках проекта продукции.
A10: 5. | B10: Просьба пояснить особенности ценообразования продукции Проекта: на основании каких источников в финансовой модели заложены цены реализации продукции (например, ссылки на открытые источники, в т.ч. тендеры, договоры, комфортные письма актуальные УПД, если продукция уже реализуется Заявителем).
A11: 6. | B11: Просьба пояснить на основании каких предпосылок/источников информации были определены объемы производства (тех. хар-ки оборудования, расчет производственной мощности) и реализации продукции Проекта. Просьба прокомментировать проведены ли переговоры с потенциальными покупателями, был ли проведен анализ рынка на предмет существующих ограничений по входу на него/уровня конкуренции. В случае наличия комфортных писем, предварительных договоров поставки, соглашений о намерении, просьба разместить в Личном кабинете Заявителя. При возможности представить действующие договоры с покупателями продукции.
A12: 7. | B12: Просьба привести калькуляцию расхода сырья и материалов для производства единицы продукции Проекта или указать на основании каких источников в Проекте приняты нормы расхода. Также просим представить информацию об основных поставщиках сырья и материалов (указать наименования), необходимых для производства продукции Проекта, при наличии представить заключенные договоры (коммерческие предложения) с основными поставщиками сырья и материалов. Просьба при наличии указать долю импортного сырья, используемого в текущем производстве продукции Компании и производстве продукции Проекта.
A13: 8. | B13: Бухгалтерская отчетность Компании-Заявителя
B14: Просим проверить наличие в личном кабинете следующих документов:
A15: 8.1. | B15: Бухгалтерская отчетность Заявителя за последний завершенный год и на последнюю отчетную дату (квартал, полугодие, 9 мес.) со следующими расшифровками (формы прилагаются):
A16: 8.2. | B16: в случае, если доля кредиторской и/или дебиторской задолженности составляет более 10% валюты баланса – расшифровка такой задолженности с указанием наименований крупнейших (более 20% суммы задолженности) кредиторов/должников, суммы задолженности и даты образования;
A17: 8.3. | B17: справка о наличии / об отсутствии просроченной кредиторской и дебиторской задолженности на последнюю возможную дату-дату подписания справки. В случае наличия просроченной кредиторской задолженности просьба представить расшифровку и указать предпринимаемые к устранению задолженности меры;
A18: 8.4. | B18: в случае, если суммарная доля краткосрочных и долгосрочных финансовых вложений составляет более 10% валюты баланса – расшифровка таких вложений с указанием инструментов/контрагентов и сумм вложений;
A19: 8.5. | B19: выручки в разрезе крупнейших (не менее 10% выручки) покупателей и видов продукции (с указанием выручки и долей по данным покупателям/видам продукции, доля экспорта) за 3 последних года, а также завершенный период финансового года;
A20: 8.6. | B20: займов и кредитов (на последнюю отчетную дату) включая облигационные и вексельные) с указанием кредиторов, лимита задолженности, суммы задолженности, цели финансирования, типа финансирования (ВКЛ, НКЛ, инвестиционный кредит и пр.), сроков кредитования, графика погашения и уплаты процентов, валюты заимствования, процентной ставки, суммы просроченной задолженности на текущую дату;
A21: 8.7. | B21: забалансовых обязательств Компании-Заявителя по состоянию на последнюю отчетную дату в т.ч. по залогам имущества и выданным поручительствам (с указанием, за кого выдано, в пользу кого, сроки действия, установленный лимит и остаток задолженности, реквизиты договора). Или просим подготовить заверение об отсутствии выданных забалансовых обязательств на отчетную дату;
A22: 8.8. | B22: расшифровку лизингового портфеля с указанием отражена данная задолженность на балансе или учитывается за балансом (или справку об отсутствии таковых обязательств) на последнюю отчетную дату;
A23: 8.9. | B23: расшифровку прочих доходов/расходов за последний завершенный год, а также за последний отчетный период (квартал, полугодие, 9 мес.) и аналогичный период прошлого года;
A24: 8.10. | B24: таблицу с размером амортизации за последние 3 года, а также за последний отчетный период (квартал, полугодие, 9 мес.) и аналогичный период прошлого года.
A25: 8.11. | B25: все формы бухгалтерской отчетности Компании-Заявителя за 2 последних года (при наличии): аудиторское заключение с текстовыми пояснениями, пояснительная записка к бух. балансу и отчету о финансовых результатах, ОДДС.
A26: 8.12. | B26: Просьба представить комментарии относительно причин соответствующей динамики следующих показателей Компании-Заявителя (в случае их изменения по сравнению с аналогичным периодом предыдущего года/промежуточного отчетного периода более чем на 10% в большую или меньшую сторону): - выручки/валовой прибыли/прибыли от продаж/чистой прибыли Компании-Заявителя; - основных статей активов, собственного капитала и обязательств.
A27: 9. | B27: Бухгалтерская отчетность Компании-Поручителя
B28: Просим проверить наличие в личном кабинете следующих документов:
A29: 9.1. | B29: Бухгалтерская отчетность Поручителя за последний завершенный год и на последнюю отчетную дату (квартал, полугодие, 9 мес.) со следующими расшифровками (формы прилагаются):
A30: 9.2. | B30: в случае, если доля кредиторской и/или дебиторской задолженности составляет более 10% валюты баланса – расшифровка такой задолженности с указанием наименований крупнейших (более 20% суммы задолженности) кредиторов/должников, суммы задолженности и даты образования;
A31: 9.3. | B31: справка о наличии / об отсутствии просроченной кредиторской и дебиторской задолженности на последнюю возможную дату-дату подписания справки. В случае наличия просроченной кредиторской задолженности просьба представить расшифровку и указать предпринимаемые к устранению задолженности меры;
A32: 9.4. | B32: в случае, если суммарная доля краткосрочных и долгосрочных финансовых вложений составляет более 10% валюты баланса – расшифровка таких вложений с указанием инструментов/контрагентов и сумм вложений;
A33: 9.5. | B33: выручки в разрезе крупнейших (не менее 10% выручки) покупателей и видов продукции (с указанием выручки и долей по данным покупателям/видам продукции, доля экспорта) за 3 последних года, а также завершенный период финансового года;
A34: 9.6. | B34: займов и кредитов (на последнюю отчетную дату) включая облигационные и вексельные) с указанием кредиторов, лимита задолженности, суммы задолженности, цели финансирования, типа финансирования (ВКЛ, НКЛ, инвестиционный кредит и пр.), сроков кредитования, графика погашения и уплаты процентов, валюты заимствования, процентной ставки, суммы просроченной задолженности на текущую дату;
A35: 9.7. | B35: забалансовых обязательств Компании-Поручителя по состоянию на последнюю отчетную дату в т.ч. по залогам имущества и выданным поручительствам (с указанием, за кого выдано, в пользу кого, сроки действия, установленный лимит и остаток задолженности, реквизиты договора). Или просим подготовить заверение об отсутствии выданных забалансовых обязательств на отчетную дату;
A36: 9.8. | B36: расшифровку лизингового портфеля с указанием отражена данная задолженность на балансе или учитывается за балансом (или справку об отсутствии таковых обязательств) на последнюю отчетную дату;
A37: 9.9. | B37: расшифровку прочих доходов/расходов за последний завершенный год, а также за последний отчетный период (квартал, полугодие, 9 мес.) и аналогичный период прошлого года;
A38: 9.10. | B38: таблицу с размером амортизации за последние 3 года, а также за последний отчетный период (квартал, полугодие, 9 мес.) и аналогичный период прошлого года.
A39: 9.11. | B39: все формы бухгалтерской отчетности Компании-Поручителя за 2 последних года (при наличии): аудиторское заключение с текстовыми пояснениями, пояснительная записка к бух. балансу и отчету о финансовых результатах, ОДДС.
A40: 9.12. | B40: Просьба представить комментарии относительно причин соответствующей динамики следующих показателей Компании-Поручителя (в случае их изменения по сравнению с аналогичным периодом предыдущего года/промежуточного отчетного периода более чем на 10% в большую или меньшую сторону): - выручки/валовой прибыли/прибыли от продаж/чистой прибыли Компании-Поручителя; - основных статей активов, собственного капитала и обязательств.
... A43: 10.2. | B43: В случае, если Заявитель не входит в состав группы Компаний, то просим в ячейке 2.11 раздела "Документы для ЭС" Личного кабинета разместить соответствующую информационную справку.

Sheet Бюджет проекта
A1: Перечень капитальных затрат в рамках Проекта
A3: № | B3: Код направления целевого использования | C3: Направление целевого использования средств | D3: Код вида затрат | E3: Наименование оборудования / направления затрат | F3: Наименование производителя | G3: Наименование поставщика / исполнителя работ/услуг | H3: Страна производителя оборудования | I3: Кол-во | J3: Дата приобретения / осуществления затрат | K3: Валюта | L3: Курс валюты | M3: Стоимость в валюте договора | N3: Стоимость с НДС, тыс. руб. | O3: Стоимость в валюте договора включает/не включает НДС (да/нет) | P3: Если заложенная в Бюджет проекта стоимость с НДС (столбец К) не включает стоимость таможенных и транспортных расходов, то просим указать дополнительно стоимость доп. расходов | Q3: Подтверждение стоимости (реквизиты договора/контракта/коммерческого предложения) | R3: Ранее понесенные расходы, тыс. руб. | S3: Планируемые расходы, тыс. руб.
N4: Цена | S4: Софин. | T4: Займа
A5: 1 | E5: Оборудование: | N5: =R5+S5+T5 -> 0
B6: выбрать | C6: выбрать | D6: выбрать | E6: … | N6: =R6+S6+T6 -> 0
B7: выбрать | C7: выбрать | D7: выбрать | N7: =R7+S7+T7 -> 0
B8: выбрать | C8: выбрать | D8: выбрать | N8: =R8+S8+T8 -> 0
B9: выбрать | C9: выбрать | D9: выбрать | N9: =R9+S9+T9 -> 0
B10: выбрать | C10: выбрать | D10: выбрать | N10: =R10+S10+T10 -> 0
B11: выбрать | C11: выбрать | D11: выбрать
B12: выбрать | C12: выбрать | D12: выбрать
B13: выбрать | C13: выбрать | D13: выбрать
B14: выбрать | C14: выбрать | D14: выбрать
B15: выбрать | C15: выбрать | D15: выбрать
A16: 2 | E16: Строительные работы… | N16: =R16+S16+T16 -> 0
B17: выбрать | C17: выбрать | D17: выбрать | E17: … | N17: =R17+S17+T17 -> 0
B18: выбрать | C18: выбрать | D18: выбрать | E18: … | N18: =R18+S18+T18 -> 0
B19: выбрать | C19: выбрать | D19: выбрать
B20: выбрать | C20: выбрать | D20: выбрать
B21: выбрать | C21: выбрать | D21: выбрать
A22: 3 | E22: Расходы, связанные с разработкой продукта (ФОТ, сырье и материалы, ОКР и т.д.) | N22: =R22+S22+T22 -> 0
B23: выбрать | C23: выбрать | D23: выбрать | E23: … | N23: =R23+S23+T23 -> 0
B24: выбрать | C24: выбрать | D24: выбрать | E24: … | N24: =R24+S24+T24 -> 0
B25: выбрать | C25: выбрать | D25: выбрать | N25: =R25+S25+T25 -> 0
B26: выбрать | C26: выбрать | D26: выбрать
B27: выбрать | C27: выбрать | D27: выбрать
B28: выбрать | C28: выбрать | D28: выбрать
B29: выбрать | C29: выбрать | D29: выбрать
A30: Итого | N30: =SUM(N5:N25) -> 0 | R30: =SUM(R5:R25) -> 0 | S30: =SUM(S5:S25) -> 0 | T30: =SUM(T5:T25) -> 0

Sheet Реестр
C2: После согласования Реестра расходных операций с Фондом, просим оформить данный Реестр на бланке компании-Заявителя, заверить подписью руководителя и печатью организации
F4: (ФОРМА)
F5: Реестр расходных операций,
F6: подтверждающих вложение средств софинансирования при реализации Проекта
F7: дополнительно к сумме предоставленного займа
F8: за период
J11: Текущая дата | K11: =TODAY() -> 45582
B12: Наименование проекта: | J12: Дата подачи заявки | K12: 45145 | L12: =K12+1 -> 45146
B13: Номер проекта, наименование Заявителя: | J13: Период ранее понесенных расходов | K13: не ранее | L13: =DATE(YEAR(L12)-2,MONTH(L12),DAY(L12)) -> 44416
B14: Настоящим письмом «Сокращенное наименование организации Заявителя согласно Уставу» (далее – Заявитель) подтверждает, что представленные в таблице ниже расходы были понесены исключительно в рамках реализации проекта «Наименование проекта» (далее – Проект), не относятся к расходам по текущей деятельности, на момент подготовки данного письма являются полностью оплаченными, а также не относятся к расходам, осуществляемым (осуществленным) на невозвратной основе и (или) возмещаемые (возмещенные) за счет средств, выделяемых напрямую для поддержки проектов из бюджета (субсидии и т.п.).
B16: № п/п | C16: Плательщик | D16: Наименование контрагента | E16: Предмет договора | F16: Основание платежа (реквизиты договора/счета/ спецификации/ зарплатная ведомость, т.п.) | G16: Оплачено | J16: Источник финансирования расходов (Собственные: текущая деятельность, займы/вклады в УК аффилированных лиц, Привлеченные: средства иных частных инвесторы/кредиты банков) | K16: Код направления целевого использования | L16: Код вида затрат | M16: Проверка даты | N16: Корректность суммы
G17: № платежного поручения | H17: Дата платежного поручения | I17: Сумма, руб.
B18: 1 | C18: 2 | D18: 3 | E18: 4 | F18: 5 | G18: 6 | H18: 7 | I18: 8 | J18: 9 | K18: 10 | L18: 11 | M18: 12 | N18: 13
B19: 1 | K19: выбрать | L19: выбрать | M19: =IF(H19=0,"-",IF(AND(H19>=$L$13,H19<=$K$11),"Корректная дата", "Некорректная дата")) -> - | N19: =IF(ISERROR(I19*1)=TRUE,"Некорректный формат",IF(I19>=100000,"Корректная сумма", IF(I19=0,"-","Рекомендуемая мин. сумма в п/п не менее 100 000 руб."))) -> -
B20: 2 | K20: выбрать | L20: выбрать | M20: =IF(H20=0,"-",IF(AND(H20>=$L$13,H20<=$K$11),"Корректная дата", "Некорректная дата")) -> - | N20: =IF(ISERROR(I20*1)=TRUE,"Некорректный формат",IF(I20>=100000,"Корректная сумма", IF(I20=0,"-","Рекомендуемая мин. сумма в п/п не менее 100 000 руб."))) -> -
B21: 3 | K21: выбрать | L21: выбрать | M21: =IF(H21=0,"-",IF(AND(H21>=$L$13,H21<=$K$11),"Корректная дата", "Некорректная дата")) -> - | N21: =IF(ISERROR(I21*1)=TRUE,"Некорректный формат",IF(I21>=100000,"Корректная сумма", IF(I21=0,"-","Рекомендуемая мин. сумма в п/п не менее 100 000 руб."))) -> -
B22: 4 | K22: выбрать | L22: выбрать | M22: =IF(H22=0,"-",IF(AND(H22>=$L$13,H22<=$K$11),"Корректная дата", "Некорректная дата")) -> - | N22: =IF(ISERROR(I22*1)=TRUE,"Некорректный формат",IF(I22>=100000,"Корректная сумма", IF(I22=0,"-","Рекомендуемая мин. сумма в п/п не менее 100 000 руб."))) -> -
B23: 5 | K23: выбрать | L23: выбрать | M23: =IF(H23=0,"-",IF(AND(H23>=$L$13,H23<=$K$11),"Корректная дата", "Некорректная дата")) -> - | N23: =IF(ISERROR(I23*1)=TRUE,"Некорректный формат",IF(I23>=100000,"Корректная сумма", IF(I23=0,"-","Рекомендуемая мин. сумма в п/п не менее 100 000 руб."))) -> -
B24: 6 | K24: выбрать | L24: выбрать | M24: =IF(H24=0,"-",IF(AND(H24>=$L$13,H24<=$K$11),"Корректная дата", "Некорректная дата")) -> - | N24: =IF(ISERROR(I24*1)=TRUE,"Некорректный формат",IF(I24>=100000,"Корректная сумма", IF(I24=0,"-","Рекомендуемая мин. сумма в п/п не менее 100 000 руб."))) -> -
B25: 7 | K25: выбрать | L25: выбрать | M25: =IF(H25=0,"-",IF(AND(H25>=$L$13,H25<=$K$11),"Корректная дата", "Некорректная дата")) -> - | N25: =IF(ISERROR(I25*1)=TRUE,"Некорректный формат",IF(I25>=100000,"Корректная сумма", IF(I25=0,"-","Рекомендуемая мин. сумма в п/п не менее 100 000 руб."))) -> -
B26: 8 | K26: выбрать | L26: выбрать | M26: =IF(H26=0,"-",IF(AND(H26>=$L$13,H26<=$K$11),"Корректная дата", "Некорректная дата")) -> - | N26: =IF(ISERROR(I26*1)=TRUE,"Некорректный формат",IF(I26>=100000,"Корректная сумма", IF(I26=0,"-","Рекомендуемая мин. сумма в п/п не менее 100 000 руб."))) -> -
B27: 9 | K27: выбрать | L27: выбрать | M27: =IF(H27=0,"-",IF(AND(H27>=$L$13,H27<=$K$11),"Корректная дата", "Некорректная дата")) -> - | N27: =IF(ISERROR(I27*1)=TRUE,"Некорректный формат",IF(I27>=100000,"Корректная сумма", IF(I27=0,"-","Рекомендуемая мин. сумма в п/п не менее 100 000 руб."))) -> -
B28: 10 | K28: выбрать | L28: выбрать | M28: =IF(H28=0,"-",IF(AND(H28>=$L$13,H28<=$K$11),"Корректная дата", "Некорректная дата")) -> - | N28: =IF(ISERROR(I28*1)=TRUE,"Некорректный формат",IF(I28>=100000,"Корректная сумма", IF(I28=0,"-","Рекомендуемая мин. сумма в п/п не менее 100 000 руб."))) -> -
B29: 11 | K29: выбрать | L29: выбрать | M29: =IF(H29=0,"-",IF(AND(H29>=$L$13,H29<=$K$11),"Корректная дата", "Некорректная дата")) -> - | N29: =IF(ISERROR(I29*1)=TRUE,"Некорректный формат",IF(I29>=100000,"Корректная сумма", IF(I29=0,"-","Рекомендуемая мин. сумма в п/п не менее 100 000 руб."))) -> -
B30: 12 | K30: выбрать | L30: выбрать | M30: =IF(H30=0,"-",IF(AND(H30>=$L$13,H30<=$K$11),"Корректная дата", "Некорректная дата")) -> - | N30: =IF(ISERROR(I30*1)=TRUE,"Некорректный формат",IF(I30>=100000,"Корректная сумма", IF(I30=0,"-","Рекомендуемая мин. сумма в п/п не менее 100 000 руб."))) -> -
... B1018: 1000 | K1018: выбрать | L1018: выбрать | M1018: =IF(H1018=0,"-",IF(AND(H1018>=$L$13,H1018<=$K$11),"Корректная дата", "Некорректная дата")) -> - | N1018: =IF(ISERROR(I1018*1)=TRUE,"Некорректный формат",IF(I1018>=100000,"Корректная сумма", IF(I1018=0,"-","Рекомендуемая мин. сумма в п/п не менее 100 000 руб."))) -> -
B1019: Х | C1019: ВСЕГО | D1019: Х | E1019: Х | F1019: Х | G1019: Х | H1019: Х | I1019: =SUM(I19:I1018) -> 0 | J1019: Х | K1019: Х | L1019: Х | M1019: Х | N1019: Х
B1023: Генеральный директор Заявителя
B1024: Главный бухгалтер Заявителя
B1025: М.П.
B1027: Примечание:
B1028: При заполнении формы не допускается объединение ячеек (при повторяющихся значениях просьба вставлять значения не оставляя графы пустыми), вставка формул (за исключением итога по графе "Сумма, руб.") и /или гиперссылок. В графах, где предусмотрен раскрывающийся список выбирать значение из списка.
B1029: В столбцах 9, 10 и 11 указаны скрытые примечания-дополнения (чтобы увидеть все примечания в книге, выберите команду "Показать все примечания" на вкладке "Рецензирование").

Sheet Себестоимость
A1: Себестоимость прямых затрат на единицу продукции Проекта, без учёта ФОТ
A3: Вид продукции Проекта | B3: Название статьи затрат/сырья | C3: Импорт (да/нет) | D3: Ед. изм. | E3: Стоимость тыс. руб. с НДС/ед. | F3: Норма расхода | G3: Затраты на ед. продукции, руб./шт. c НДС | H3: Доля в себестоимости | I3: Поставщик | J3: Страна поставки | K3: Статус договора | L3: Примечание | M3: Подтверждающий цену документ
C4: выбрать | G4: =E4*F4 -> 0 | H4: =IFERROR(G4/$G$26,0) -> 0
C5: выбрать | G5: =E5*F5 -> 0 | H5: =IFERROR(G5/$G$26,0) -> 0
C6: выбрать | G6: =E6*F6 -> 0 | H6: =IFERROR(G6/$G$26,0) -> 0
C7: выбрать | G7: =E7*F7 -> 0 | H7: =IFERROR(G7/$G$26,0) -> 0
C8: выбрать | G8: =E8*F8 -> 0 | H8: =IFERROR(G8/$G$26,0) -> 0
C9: выбрать | G9: =E9*F9 -> 0 | H9: =IFERROR(G9/$G$26,0) -> 0
C10: выбрать | G10: =E10*F10 -> 0 | H10: =IFERROR(G10/$G$26,0) -> 0
C11: выбрать | G11: =E11*F11 -> 0 | H11: =IFERROR(G11/$G$26,0) -> 0
C12: выбрать | G12: =E12*F12 -> 0 | H12: =IFERROR(G12/$G$26,0) -> 0
C13: выбрать | G13: =E13*F13 -> 0 | H13: =IFERROR(G13/$G$26,0) -> 0
C14: выбрать | G14: =E14*F14 -> 0 | H14: =IFERROR(G14/$G$26,0) -> 0
C15: выбрать | G15: =E15*F15 -> 0 | H15: =IFERROR(G15/$G$26,0) -> 0
... C24: выбрать | G24: =E24*F24 -> 0 | H24: =IFERROR(G24/$G$26,0) -> 0
A26: Себестоимость прямых затрат (без ФОТ) ИТОГО | G26: =SUM(G4:G24) -> 0 | H26: =SUM(H4:H24) -> 0
A28: Доля импортного сырья | B28: =SUMIF($C$4:$G$24,"да",$G$4:$G$24)/$G$26 -> #DIV/0!

Sheet Амортизация
B2: Амортизация, тыс. руб
B4: Статьи затрат | C4: =VLOOKUP(Вопросы!C2,справочник!J2:O10,6,FALSE) -> 2020 г. | D4: =VLOOKUP(Вопросы!C2,справочник!J2:O10,5,FALSE) -> 2021 г. | E4: =VLOOKUP(Вопросы!C2,справочник!J2:O10,4,FALSE) -> 2022 г. | F4: =VLOOKUP(Вопросы!C2,справочник!J2:L10,3,FALSE) -> 2022 г. | G4: =VLOOKUP(Вопросы!C2,справочник!J2:L10,2,FALSE) -> 2023 г.
B5: Амортизация в составе себестоимости продаж
B6: Амортизация в составе коммерчечских расходов
B7: Амортизация в составе управленческих расходов
B8: Амортизация ППА
B9: Итого амортизация | C9: =SUM(C5:C8) -> 0 | D9: =SUM(D5:D8) -> 0 | E9: =SUM(E5:E8) -> 0 | F9: =SUM(F5:F8) -> 0 | G9: =SUM(G5:G8) -> 0

Sheet Кредиты и займы
A1: =CONCATENATE("Расшифровка обязательств по привлеченным кредитам и займам на ",TEXT(Вопросы!C2,"ДД.ММ.ГГГГ")) -> Расшифровка обязательств по привлеченным кредитам и займам на 31.12.2023
L2: В соответствии с представленной в Фонд бухгалтерской отчетностью
A3: Наименование кредитора | B3: Вид обязательства, номер и дата заключения Договора | C3: Сумма обязательства по Договору | D3: Валюта кредита | E3: Сумма обязательства (кредит, займ) по состоянию на | F3: Сумма обязательства (проценты) по состоянию на | G3: Процентная ставка (%% годовых) | H3: Дата фактического предоставления | I3: Дата возврата по Договору | J3: Предоставленное обеспечение (№ и дата заключения договора, наименование залогодателя/поручителя/гаранта, наименование формы обеспечения (предмета залога), его залоговая стоимость (предельная сумма ответственности лица, предоставившего поручительство) | K3: Просрочки | L3: Пролонгации
A4: Банк 1 | B4: Кредит

Sheet ДЗ
J1: =TODAY() -> 45582 | L1: =IF(MONTH(J1)<4,12,IF(MONTH(J1)<7,3,IF(MONTH(J1)<10,6,9))) -> 9 | M1: =LOOKUP(L1,[69]Лист1!B3:C6) -> 30 | N1: =LOOKUP(L1,[69]Лист1!B3:D6) -> 2022
A2: =CONCATENATE("Расшифровка дебиторской задолженности на ",TEXT(Вопросы!C2,"ДД.ММ.ГГГГ")) -> Расшифровка дебиторской задолженности на 31.12.2023
M4: В соответствии с представленной в Фонд бухгалтерской отчетностью
A5: № п.п. | B5: Наименование контрагента | C5: ИНН | D5: Реквизиты договора | E5: Предмет договора (причина возникновения) | F5: Дата возникновения задолженности | G5: Дата погашения задолженности | H5: Сумма задолженности за вычетом резерва, тыс. руб. | I5: Сумма просроченной задолженности за вычетом резерва, тыс. руб. | J5: Сумма созданного резерва, тыс. руб. | K5: Планируемая дата погашения просроченной задолженности | L5: Количество дней просрочки | M5: Комментарии
A6: ДЕБИТОРСКАЯ ЗАДОЛЖЕННОСТЬ ИТОГО: | H6: =SUM(H7,H28) -> 0 | I6: =SUM(I7,I28) -> 0
A7: Дебиторская задолженность со сроком погашения до одного года: | H7: =SUM(H8,H19,H24) -> 0 | I7: =SUM(I8,I19,I24) -> 0
A8: Авансы выданные | H8: =SUM(H9:H18) -> 0 | I8: =SUM(I9:I18) -> 0
B18: Прочие
A19: Расчеты с покупателями/заказчиками | H19: =SUM(H20:H23) -> 0 | I19: =SUM(I20:I23) -> 0
B23: Прочие
A24: Прочее | H24: =SUM(H25:H27) -> 0 | I24: =SUM(I27:I27) -> 0
A28: Дебиторская задолженность со сроком погашения более одного года: | H28: =SUM(H29,H32,H35) -> 0 | I28: =SUM(I29,I32,I35) -> 0
A29: Авансы выданные | H29: =SUM(H30:H31) -> 0 | I29: =SUM(I30:I31) -> 0
A32: Расчеты с покупателями/заказчиками | H32: =SUM(H33:H34) -> 0 | I32: =SUM(I33:I34) -> 0
A35: Прочее | H35: =SUM(H36:H37) -> 0 | I35: =SUM(I36:I37) -> 0

Sheet КЗ
J1: =TODAY() -> 45582 | L1: =IF(MONTH(J1)<4,12,IF(MONTH(J1)<7,3,IF(MONTH(J1)<10,6,9))) -> 9 | M1: =LOOKUP(L1,[69]Лист1!B3:C6) -> 30 | N1: =LOOKUP(L1,[69]Лист1!B3:D6) -> 2022
A2: =CONCATENATE("Расшифровка кредиторской задолженности на ",TEXT(Вопросы!C2,"ДД.ММ.ГГГГ")) -> Расшифровка кредиторской задолженности на 31.12.2023
M3: В соответствии с представленной в Фонд бухгалтерской отчетностью
A4: № п.п. | B4: Наименование контрагента | C4: ИНН | D4: Реквизиты договора | E4: Предмет договора (причина возникновения) | F4: Дата возникновения задолженности | G4: Дата погашения задолженности | H4: Сумма задолженности за вычетом резерва, тыс. руб. | I4: Сумма просроченной задолженности за вычетом резерва, тыс. руб. | J4: Сумма созданного резерва, тыс. руб. | K4: Планируемая дата погашения просроченной задолженности | L4: Количество дней просрочки | M4: Комментарии
A5: Кредиторская задолженность итого: | H5: =SUM(H6,H41) -> 0 | I5: =SUM(I6,I41) -> 0
A6: Кредиторская задолженность со сроком погашения до одного года: | H6: =SUM(H7,H11,H34) -> 0 | I6: =SUM(I7,I11,I34) -> 0
A7: Авансы полученные | H7: =SUM(H8:H10) -> 0 | I7: =SUM(I8:I10) -> 0
B10: Прочие
A11: Расчеты с поставщиками/подрядчиками | H11: =SUM(H12:H33) -> 0 | I11: =SUM(I12:I33) -> 0
B33: Прочие
A34: Прочее | H34: =SUM(H35:H40) -> 0 | I34: =SUM(I35:I40) -> 0
A41: Кредиторская задолженность со сроком погашения более одного года: | H41: =SUM(H42,H45,H48) -> 0 | I41: =SUM(I42,I45,I48) -> 0
A42: Авансы полученные | H42: =SUM(H43:H44) -> 0 | I42: =SUM(I43:I44) -> 0
A45: Расчеты с поставщиками/подрядчиками | H45: =SUM(H46:H47) -> 0 | I45: =SUM(I46:I47) -> 0
A48: Прочее | H48: =SUM(H49:H50) -> 0 | I48: =SUM(I49:I50) -> 0

Sheet Лизинг
J1: =TODAY() -> 45582 | L1: =IF(MONTH(J1)<4,12,IF(MONTH(J1)<7,3,IF(MONTH(J1)<10,6,9))) -> 9 | M1: =LOOKUP(L1,[69]Лист1!B3:C6) -> 30 | N1: =LOOKUP(L1,[69]Лист1!B3:D6) -> 2022
A2: =CONCATENATE("Расшифровка лизингового портфеля на ",TEXT(Вопросы!C2,"ДД.ММ.ГГГГ")) -> Расшифровка лизингового портфеля на 31.12.2023
A4: № п.п. | B4: Лизингодатель | C4: ИНН | D4: Предмет лизинга | E4: Реквизиты договора | F4: Отражено на балансе (лизингодателя / лизингополучателя) | G4: Дата начала договора лизинга | H4: Дата окончания договора лизинга | I4: Сумма по договору лизинга, тыс. руб. | J4: Сумма задолженности по договору лизинга на отчетную дату, тыс. руб.
A5: Задолженность по договорам лизинга ИТОГО: | I5: =SUM(I6:I15) -> 0 | J5: =SUM(J6:J15) -> 0
A6: 1
A7: =A6+1 -> 2
A8: =A7+1 -> 3
A9: =A8+1 -> 4
A10: =A9+1 -> 5
A11: =A10+1 -> 6
A12: =A11+1 -> 7
A13: =A12+1 -> 8
A14: =A13+1 -> 9
A15: =A14+1 -> 10

Sheet Забалансовые об-ва
J1: =TODAY() -> 45582 | L1: =IF(MONTH(J1)<4,12,IF(MONTH(J1)<7,3,IF(MONTH(J1)<10,6,9))) -> 9 | M1: =LOOKUP(L1,[69]Лист1!B3:C6) -> 30 | N1: =LOOKUP(L1,[69]Лист1!B3:D6) -> 2022
A2: =CONCATENATE("Расшифровка забалансовых обязательства, включая выданные поручительстви и залоги, на ",TEXT(Вопросы!C2,"ДД.ММ.ГГГГ")) -> Расшифровка забалансовых обязательства, включая выданные поручительстви и залоги, на 31.12.2023
A4: № п.п. | B4: Организация, за которую предоставлено обеспечение | D4: Организация, в пользу которой предоставлено обеспечение | F4: Договор, по которому выдано обеспечение | G4: Вид обеспечения (поручительство, залог, пр.) | H4: Сумма обеспечения по договору, тыс. руб. | I4: Остаток задолженности на отчетную дату, тыс. руб. | J4: Дата предоставления договора обеспечения | K4: Дата окончания договора обеспечения
B5: Наименование | C5: ИНН | D5: Наименование | E5: ИНН
A6: Поручительства выданные: | H6: =ROUND(SUM(H7:H29),0) -> 0 | I6: =ROUND(SUM(I7:I29),0) -> 0
A7: 1
A8: =1+A7 -> 2
A9: =1+A8 -> 3
A10: =1+A9 -> 4
A11: =1+A10 -> 5
A12: =1+A11 -> 6
A13: =1+A12 -> 7
A14: =1+A13 -> 8
A15: =1+A14 -> 9
A16: =1+A15 -> 10
A17: =1+A16 -> 11
A18: =1+A17 -> 12
A19: =1+A18 -> 13
... A29: =1+A28 -> 23
A30: Залоги предоставленные: | H30: =ROUND(SUM(H31:H33),0) -> 0 | I30: =ROUND(SUM(I31:I33),0) -> 0
A31: 1
A32: =1+A31 -> 2
A33: =1+A32 -> 3
A34: № п.п. | B34: Банк-гарант | D34: Бенефициар по гарантии | F34: Обязательство, обеспеченное гарантией | G34: Вид обеспечения | H34: Сумма гарантии, тыс. руб. | I34: Остаток задолженности на отчетную дату, тыс. руб. | J34: Дата предоставления | K34: Дата истечения срока гарантии
B35: Наименование | C35: ИНН | D35: Наименование | E35: ИНН
A36: Банковские гарантии: | H36: =SUM(H37:H39) -> 0 | I36: =SUM(I37:I39) -> 0
A37: 1
A38: =1+A37 -> 2
A39: =1+A38 -> 3

Sheet Фин.вложения
A1: =CONCATENATE("Расшифровка финансовых вложений, включай инструмент, контрагента и сумму вложений на ", TEXT(Вопросы!C2,"ДД.ММ.ГГГГ")) -> Расшифровка финансовых вложений, включай инструмент, контрагента и сумму вложений на 31.12.2023
G2: В соответствии с представленной в Фонд бухгалтерской отчетностью
A3: № п.п. | B3: Наименование контрагента | C3: ИНН | D3: Вид финансового вложения | E3: № договора | F3: Дата возникновения | G3: Дата погашения | H3: % ставка | I3: Сумма задолженности тыс. руб. | J3: в т.ч. просроченная задолженность, тыс. руб. | K3: Количество дней просрочки | L3: Количество изменений условий первоначального договора ( изменение срока кредита, графика погашения, процентной ставки )
A4: Долгосрочные финансовые вложения | I4: =SUM(I5:I7) -> 0 | J4: =SUM(J5:J7) -> 0
A8: Краткосрочные финансовые вложения | I8: =SUM(I9:I11) -> 0 | J8: =SUM(J9:J11) -> 0

Sheet Выручка
A1: Расшифровка выручки в разрезе крупнейших (не менее 10% выручки) покупателей (с указанием выручки и долей по данным покупателям/видам продукции) за последние три года, последний отчетный период текущего года и аналогичный отчетный период предшествующего года
K2: В соответствии с представленной в Фонд бухгалтерской отчетностью
A3: Наименование продукции/услуг | B3: =VLOOKUP(Вопросы!C2,справочник!J2:O10,6,FALSE) -> 2020 г. | D3: =VLOOKUP(Вопросы!C2,справочник!J2:O10,5,FALSE) -> 2021 г. | F3: =VLOOKUP(Вопросы!C2,справочник!J2:O10,4,FALSE) -> 2022 г. | H3: =VLOOKUP(Вопросы!C2,справочник!J2:L10,3,FALSE) -> 2022 г. | J3: =VLOOKUP(Вопросы!C2,справочник!J2:L10,2,FALSE) -> 2023 г.
B4: тыс. руб. | C4: % | D4: тыс. руб. | E4: % | F4: тыс. руб. | G4: % | H4: тыс. руб. | I4: % | J4: тыс. руб. | K4: %
C5: =IFERROR(B5/B$16,"") | E5: =IFERROR(D5/D$16,"") | G5: =IFERROR(F5/F$16,"") | I5: =IFERROR(H5/H$16,"") | K5: =IFERROR(J5/J$16,"")
C6: =IFERROR(B6/B$16,"") | E6: =IFERROR(D6/D$16,"") | G6: =IFERROR(F6/F$16,"") | I6: =IFERROR(H6/H$16,"") | K6: =IFERROR(J6/J$16,"")
C7: =IFERROR(B7/B$16,"") | E7: =IFERROR(D7/D$16,"") | G7: =IFERROR(F7/F$16,"") | I7: =IFERROR(H7/H$16,"") | K7: =IFERROR(J7/J$16,"")
C8: =IFERROR(B8/B$16,"") | E8: =IFERROR(D8/D$16,"") | G8: =IFERROR(F8/F$16,"") | I8: =IFERROR(H8/H$16,"") | K8: =IFERROR(J8/J$16,"")
C9: =IFERROR(B9/B$16,"") | E9: =IFERROR(D9/D$16,"") | G9: =IFERROR(F9/F$16,"") | I9: =IFERROR(H9/H$16,"") | K9: =IFERROR(J9/J$16,"")
C10: =IFERROR(B10/B$16,"") | E10: =IFERROR(D10/D$16,"") | G10: =IFERROR(F10/F$16,"") | I10: =IFERROR(H10/H$16,"") | K10: =IFERROR(J10/J$16,"")
C11: =IFERROR(B11/B$16,"") | E11: =IFERROR(D11/D$16,"") | G11: =IFERROR(F11/F$16,"") | I11: =IFERROR(H11/H$16,"") | K11: =IFERROR(J11/J$16,"")
C12: =IFERROR(B12/B$16,"") | E12: =IFERROR(D12/D$16,"") | G12: =IFERROR(F12/F$16,"") | I12: =IFERROR(H12/H$16,"") | K12: =IFERROR(J12/J$16,"")
C13: =IFERROR(B13/B$16,"") | E13: =IFERROR(D13/D$16,"") | G13: =IFERROR(F13/F$16,"") | I13: =IFERROR(H13/H$16,"") | K13: =IFERROR(J13/J$16,"")
C14: =IFERROR(B14/B$16,"") | E14: =IFERROR(D14/D$16,"") | G14: =IFERROR(F14/F$16,"") | I14: =IFERROR(H14/H$16,"") | K14: =IFERROR(J14/J$16,"")
C15: =IFERROR(B15/B$16,"") | E15: =IFERROR(D15/D$16,"") | G15: =IFERROR(F15/F$16,"") | I15: =IFERROR(H15/H$16,"") | K15: =IFERROR(J15/J$16,"")
A16: Итого выручка | B16: =SUM(B5:B15) -> 0 | C16: =IFERROR(B16/B$16,"") | D16: =SUM(D5:D15) -> 0 | E16: =IFERROR(D16/D$16,"") | F16: =SUM(F5:F15) -> 0 | G16: =IFERROR(F16/F$16,"") | H16: =SUM(H5:H15) -> 0 | I16: =IFERROR(H16/H$16,"") | J16: =SUM(J5:J15) -> 0 | K16: =IFERROR(J16/J$16,"")
A18: Наименование покупателя/заказчика | B18: =B3 -> 2020 г. | D18: =D3 -> 2021 г. | F18: =F3 -> 2022 г. | H18: =H3 -> 2022 г. | J18: =J3 -> 2023 г.
B19: тыс. руб. | C19: % | D19: тыс. руб. | E19: % | F19: тыс. руб. | G19: % | H19: тыс. руб. | I19: % | J19: тыс. руб. | K19: %
C20: =IFERROR(B20/B$31,"") | E20: =IFERROR(D20/D$31,"") | G20: =IFERROR(F20/F$31,"") | I20: =IFERROR(H20/H$31,"") | K20: =IFERROR(J20/J$31,"")
C21: =IFERROR(B21/B$31,"") | E21: =IFERROR(D21/D$31,"") | G21: =IFERROR(F21/F$31,"") | I21: =IFERROR(H21/H$31,"") | K21: =IFERROR(J21/J$31,"")
C22: =IFERROR(B22/B$31,"") | E22: =IFERROR(D22/D$31,"") | G22: =IFERROR(F22/F$31,"") | I22: =IFERROR(H22/H$31,"") | K22: =IFERROR(J22/J$31,"")
C23: =IFERROR(B23/B$31,"") | E23: =IFERROR(D23/D$31,"") | G23: =IFERROR(F23/F$31,"") | I23: =IFERROR(H23/H$31,"") | K23: =IFERROR(J23/J$31,"")
C24: =IFERROR(B24/B$31,"") | E24: =IFERROR(D24/D$31,"") | G24: =IFERROR(F24/F$31,"") | I24: =IFERROR(H24/H$31,"") | K24: =IFERROR(J24/J$31,"")
C25: =IFERROR(B25/B$31,"") | E25: =IFERROR(D25/D$31,"") | G25: =IFERROR(F25/F$31,"") | I25: =IFERROR(H25/H$31,"") | K25: =IFERROR(J25/J$31,"")
C26: =IFERROR(B26/B$31,"") | E26: =IFERROR(D26/D$31,"") | G26: =IFERROR(F26/F$31,"") | I26: =IFERROR(H26/H$31,"") | K26: =IFERROR(J26/J$31,"")
C27: =IFERROR(B27/B$31,"") | E27: =IFERROR(D27/D$31,"") | G27: =IFERROR(F27/F$31,"") | I27: =IFERROR(H27/H$31,"") | K27: =IFERROR(J27/J$31,"")
C28: =IFERROR(B28/B$31,"") | E28: =IFERROR(D28/D$31,"") | G28: =IFERROR(F28/F$31,"") | I28: =IFERROR(H28/H$31,"") | K28: =IFERROR(J28/J$31,"")
C29: =IFERROR(B29/B$31,"") | E29: =IFERROR(D29/D$31,"") | G29: =IFERROR(F29/F$31,"") | I29: =IFERROR(H29/H$31,"") | K29: =IFERROR(J29/J$31,"")
C30: =IFERROR(B30/B$31,"") | E30: =IFERROR(D30/D$31,"") | G30: =IFERROR(F30/F$31,"") | I30: =IFERROR(H30/H$31,"") | K30: =IFERROR(J30/J$31,"")
A31: Итого выручка | B31: =SUM(B20:B30) -> 0 | C31: =IFERROR(B31/B$31,"") | D31: =SUM(D20:D30) -> 0 | E31: =IFERROR(D31/D$31,"") | F31: =SUM(F20:F30) -> 0 | G31: =IFERROR(F31/F$31,"") | H31: =SUM(H20:H30) -> 0 | I31: =IFERROR(H31/H$31,"") | J31: =SUM(J20:J30) -> 0 | K31: =IFERROR(J31/J$31,"")

Sheet Прочие доходы и расходы
A1: Расшифровка прочих доходов и расходов c выделением разовых (чрезвычайных) доходов и расходов, а также доходов и расходов, относящихся к операционной деятельности, за последние три года, последний отчетный период текущего года и аналогичный отчетный период предшествующего года
G2: В соответствии с представленной в Фонд бухгалтерской отчетностью
A3: Статьи затрат | B3: =VLOOKUP(Вопросы!C2,справочник!J2:O10,6,FALSE) -> 2020 г. | C3: =VLOOKUP(Вопросы!C2,справочник!J2:O10,5,FALSE) -> 2021 г. | D3: =VLOOKUP(Вопросы!C2,справочник!J2:O10,4,FALSE) -> 2022 г. | E3: =VLOOKUP(Вопросы!C2,справочник!J2:L10,3,FALSE) -> 2022 г. | F3: =VLOOKUP(Вопросы!C2,справочник!J2:L10,2,FALSE) -> 2023 г. | G3: Признак (разовые / чрезвычайные, операционные доходы / расходы)
A4: Прочие доходы (стр.2340 Отчета о финансовых результатах), тыс. руб. | B4: =SUM(B5:B13) -> 0 | C4: =SUM(C5:C13) -> 0 | D4: =SUM(D5:D13) -> 0 | E4: =SUM(E5:E13) -> 0 | F4: =SUM(F5:F13) -> 0
A14: Прочие расходы (стр.2350 Отчета о финансовых результатах), тыс. руб. | B14: =SUM(B15:B23) -> 0 | C14: =SUM(C15:C23) -> 0 | D14: =SUM(D15:D23) -> 0 | E14: =SUM(E15:E23) -> 0 | F14: =SUM(F15:F23) -> 0
A24: Сальдо прочих доходов и расходов, тыс. руб. | B24: =B4-B14 -> 0 | C24: =C4-C14 -> 0 | D24: =D4-D14 -> 0 | E24: =E4-E14 -> 0 | F24: =F4-F14 -> 0

Sheet справочник
B2: выбрать | D2: выбрать | F2: выбрать | H2: выбрать | J2: 45107 | K2: 1 п/г 2023 | L2: 1 п/г 2022 | M2: 2022 г. | N2: 2021 г. | O2: 2020 г.
B3: да | D3: 1 | F3: Зарплата сотрудников, вкл. налоги и взносы от ФОТ | H3: Научные и иные исследования в интересах проекта | J3: 45199 | K3: 9 мес. 2023 | L3: 9 мес. 2022 | M3: 2022 г. | N3: 2021 г. | O3: 2020 г.
B4: нет | D4: 2.1 | F4: Работы и услуги, выполняемые третьими лицами, приобретение прав | H4: Разработка нового продукта/технологии | J4: 45291 | K4: 2023 г. | L4: 2022 г. | M4: 2022 г. | N4: 2021 г. | O4: 2020 г.
D5: 2.2 | F5: Материалы и комплектующие | H5: Приобретение или использование специального оборудования для проведения необходимых опытно-конструкторских работ и отработки технологии | J5: 45382 | K5: 1 кв. 2024 | L5: 1 кв. 2023 | M5: 2023 г. | N5: 2022 г. | O5: 2021 г.
D6: 2.3 | F6: Приобретение оборудования | H6: Разработка технико-экономического обоснования инвестиционной стадии проекта, прединвестиционный анализ и оптимизация проекта, не включая аналитические исследования рынка. Сертификация и внедрение новых методов (ISO 9000, LEAN и пр.) | J6: 45473 | K6: 1 п/г 2024 | L6: 1 п/г 2023 | M6: 2023 г. | N6: 2022 г. | O6: 2021 г.
D7: 2.4 | H7: Приобретение прав на результаты интеллектуальной деятельности | J7: 45565 | K7: 9 мес. 2024 | L7: 9 мес. 2023 | M7: 2023 г. | N7: 2022 г. | O7: 2021 г.
D8: 2.5 | H8: Инжиниринг | J8: 45657 | K8: 2024 г. | L8: 2023 г. | M8: 2023 г. | N8: 2022 г. | O8: 2021 г.
D9: 2.6 | H9: Государственная экспертиза проектной документации | J9: 45747 | K9: 1 кв. 2025 | L9: 1 кв. 2024 | M9: 2024 г. | N9: 2023 г. | O9: 2022 г.
D10: 3 | H10: Разработка рабочей документации для объектов капитального строительства | J10: 45838 | K10: 1 п/г 2025 | L10: 1 п/г 2024 | M10: 2024 г. | N10: 2023 г. | O10: 2022 г.
D11: 4 | H11: Приобретение в собственность промышленного оборудования
D12: 5 | H12: Общехозяйственные расходы
D13: 5.1 | H13: Строительство и реконструкция
D14: 5.2 | H14: Прочие капитальные вложения
D15: 5.3 | H15: Расходы, связанные с производством и выводом на рынок пилотных партий продукции
D16: 6.1
D17: 6.2
D18: 6.3
D19: 6.4
D20: 7
D21: 8
D22: 8.1
D23: 8.2
D24: 9.1
D25: 9.2
D26: 9.3
D27: 9.4
... D39: 14

Sheet Лист1
B2: месяц | C2: дата | D2: год
B3: 3 | C3: 31 | D3: =YEAR('Кредиты и займы'!#REF!) -> #REF!
B4: 6 | C4: 30 | D4: =YEAR('Кредиты и займы'!#REF!) -> #REF!
B5: 9 | C5: 30 | D5: =YEAR('Кредиты и займы'!#REF!) -> #REF!
B6: 12 | C6: 31 | D6: =YEAR('Кредиты и займы'!#REF!)-1 -> #REF!

Sheet Template
A1: Проект - Наименование и (номер) | M1: 0 | N1: синим цветом выделены ячейки, где требуется ввести информацию!
A3: Бюджет проекта
A4: Источники финансирования | D4: Всего | E4: в (%) | F4: Направления финансирования | K4: =D4 -> Всего | L4: =E4 -> в (%)
A5: Ранее вложенные средства: | F5: За счет ранее вложенных средств:
A6: Взнос в УК | D6: 0 | E6: =IF(D$18<>0,D6/D$18,0) -> 0 | F6: ПСД | K6: 0 | L6: =IF(K$18<>0,K6/K$18,0) -> 0
A7: Займы акционеров | D7: 0 | E7: =IF(D$18<>0,D7/D$18,0) -> 0 | F7: СМР | K7: 0 | L7: =IF(K$18<>0,K7/K$18,0) -> 0
A8: Собственные средства заемщика | D8: 0 | E8: =IF(D$18<>0,D8/D$18,0) -> 0 | F8: Оборудование, инжиниринг и монтаж | K8: 0 | L8: =IF(K$18<>0,K8/K$18,0) -> 0
A9: Кредиты/займы внешние | D9: 0 | E9: =IF(D$18<>0,D9/D$18,0) -> 0 | F9: Прочее | K9: 0 | L9: =IF(K$18<>0,K9/K$18,0) -> 0
A10: Итого | D10: =SUM(D6:D9) -> 0 | E10: =IF(D$18<>0,D10/D$18,0) -> 0 | F10: Итого | K10: =SUM(K6:K9) -> 0 | L10: =IF(K$18<>0,K10/K$18,0) -> 0
A11: Планируемые вложения: | F11: За счет планируемых:
A12: =A6 -> Взнос в УК | D12: 0 | E12: =IF(D$18<>0,D12/D$18,0) -> 0 | F12: =F6 -> ПСД | K12: 0 | L12: =IF(K$18<>0,K12/K$18,0) -> 0
A13: =A7 -> Займы акционеров | D13: 0 | E13: =IF(D$18<>0,D13/D$18,0) -> 0 | F13: =F7 -> СМР | K13: 0 | L13: =IF(K$18<>0,K13/K$18,0) -> 0
A14: =A8 -> Собственные средства заемщика | D14: 0 | E14: =IF(D$18<>0,D14/D$18,0) -> 0 | F14: =F8 -> Оборудование, инжиниринг и монтаж | K14: 0 | L14: =IF(K$18<>0,K14/K$18,0) -> 0
A15: Кредит банка | D15: 0 | E15: =IF(D$18<>0,D15/D$18,0) -> 0 | F15: =F9 -> Прочее | K15: 0 | L15: =IF(K$18<>0,K15/K$18,0) -> 0
A16: Заём Фонда | D16: 0 | E16: =IF(D$18<>0,D16/D$18,0) -> 0 | F16: =F10 -> Итого | K16: =SUM(K12:K15) -> 0 | L16: =IF(K$18<>0,K16/K$18,0) -> 0
A17: =A10 -> Итого | D17: =SUM(D12:D16) -> 0 | E17: =IF(D$18<>0,D17/D$18,0) -> 0 | F17: Оборотный капитал | K17: 0 | L17: =IF(K$18<>0,K17/K$18,0) -> 0 | O17: значение должно быть равно нулю
A18: Всего | D18: =D10+D17 -> 0 | E18: =IF(D$18<>0,D18/D$18,0) -> 0 | F18: Итого | K18: =K17+K16+K10 -> 0 | L18: =IF(K$18<>0,K18/K$18,0) -> 0 | N18: =D18-K18 -> 0 | O18: проверка
A20: Ключевые показатели | C20: Всего | D20: 2020 | E20: =D20+1 -> 2021 | F20: =E20+1 -> 2022 | G20: =F20+1 -> 2023 | H20: =G20+1 -> 2024 | I20: =H20+1 -> 2025 | J20: =I20+1 -> 2026 | K20: =J20+1 -> 2027 | L20: =K20+1 -> 2028 | O20: значение должно быть равно нулю
A21: Привлечение частных инвестиций (софинанс) | C21: =SUM(D21:L21) -> 0 | D21: 0 | E21: 0 | F21: 0 | G21: 0 | H21: 0 | I21: 0 | J21: 0 | K21: 0 | L21: 0 | N21: =D17-D16-C21 -> 0 | O21: проверка
A22: Налоговые отчисления во все уровни БС | C22: =SUM(D22:L22) -> 0 | D22: 0 | E22: 0 | F22: 0 | G22: 0 | H22: 0 | I22: 0 | J22: 0 | K22: 0 | L22: 0
A23: Созданные рабочие места всего | C23: =SUM(D23:L23) -> 0 | D23: 0 | E23: 0 | F23: 0 | G23: 0 | H23: 0 | I23: 0 | J23: 0 | K23: 0 | L23: 0
A24: в том числе ВПРМ | C24: =SUM(D24:L24) -> 0 | D24: 0 | E24: 0 | F24: 0 | G24: 0 | H24: 0 | I24: 0 | J24: 0 | K24: 0 | L24: 0
A26: Финпоказатели Проекта | C26: Всего | D26: =D20 -> 2020 | E26: =D26+1 -> 2021 | F26: =E26+1 -> 2022 | G26: =F26+1 -> 2023 | H26: =G26+1 -> 2024 | I26: =H26+1 -> 2025 | J26: =I26+1 -> 2026 | K26: =J26+1 -> 2027 | L26: =K26+1 -> 2028
A27: Выручка | C27: =SUM(D27:L27) -> 0 | D27: 0 | E27: 0 | F27: 0 | G27: 0 | H27: 0 | I27: 0 | J27: 0 | K27: 0 | L27: 0
A28: EBITDA | C28: =SUM(D28:L28) -> 0 | D28: 0 | E28: 0 | F28: 0 | G28: 0 | H28: 0 | I28: 0 | J28: 0 | K28: 0 | L28: 0
A29: Маржа EBITDA | C29: =IF(C27<>0,C28/C27,0) -> 0 | D29: =IF(D27<>0,D28/D27,0) -> 0 | E29: =IF(E27<>0,E28/E27,0) -> 0 | F29: =IF(F27<>0,F28/F27,0) -> 0 | G29: =IF(G27<>0,G28/G27,0) -> 0 | H29: =IF(H27<>0,H28/H27,0) -> 0 | I29: =IF(I27<>0,I28/I27,0) -> 0 | J29: =IF(J27<>0,J28/J27,0) -> 0 | ... L29: =IF(L27<>0,L28/L27,0) -> 0
A30: Денпоток от операционной деятельности | C30: =SUM(D30:L30) -> 0 | D30: 0 | E30: 0 | F30: 0 | G30: 0 | H30: 0 | I30: 0 | J30: 0 | K30: 0 | L30: 0
A31: Денпоток от инвестиционной деятельности | C31: =SUM(D31:L31) -> 0 | D31: =SUM(D32:D34) -> 0 | E31: =SUM(E32:E34) -> 0 | F31: =SUM(F32:F34) -> 0 | G31: =SUM(G32:G34) -> 0 | H31: =SUM(H32:H34) -> 0 | I31: =SUM(I32:I34) -> 0 | J31: =SUM(J32:J34) -> 0 | K31: =SUM(K32:K34) -> 0 | L31: =SUM(L32:L34) -> 0 | N31: =C31+D18 -> 0 | O31: проверка
A32: за счет средств Заемщика | C32: =SUM(D32:L32) -> 0 | D32: 0 | E32: 0 | F32: 0 | G32: 0 | H32: 0 | I32: 0 | J32: 0 | K32: 0 | L32: 0 | O32: значение должно быть равно нулю. Если нет, то необходимо прокомментировать
A33: за счет средств других Кредиторов | C33: =SUM(D33:L33) -> 0 | D33: 0 | E33: 0 | F33: 0 | G33: 0 | H33: 0 | I33: 0 | J33: 0 | K33: 0 | L33: 0
A34: за счет средств Фонда | C34: =SUM(D34:L34) -> 0 | D34: 0 | E34: 0 | F34: 0 | G34: 0 | H34: 0 | I34: 0 | J34: 0 | K34: 0 | L34: 0
A35: Денпоток от финансовой деятельности | C35: =SUM(D35:L35) -> 0 | D35: 0 | E35: 0 | F35: 0 | G35: 0 | H35: 0 | I35: 0 | J35: 0 | K35: 0 | L35: 0
A36: CF | C36: =SUM(D36:L36) -> 0 | D36: =D30+D31+D35 -> 0 | E36: =E30+E31+E35 -> 0 | F36: =F30+F31+F35 -> 0 | G36: =G30+G31+G35 -> 0 | H36: =H30+H31+H35 -> 0 | I36: =I30+I31+I35 -> 0 | J36: =J30+J31+J35 -> 0 | K36: =K30+K31+K35 -> 0 | L36: =L30+L31+L35 -> 0
A37: FCFF | C37: =SUM(D37:L37) -> 0 | D37: 0 | E37: 0 | F37: 0 | G37: 0 | H37: 0 | I37: 0 | J37: 0 | K37: 0 | L37: 0
A38: Ставка дисконтирования | C38: 0
A39: Дисконтированный FCFF | C39: =SUM(D39:L39) -> 0 | D39: 0 | E39: 0 | F39: 0 | G39: 0 | H39: 0 | I39: 0 | J39: 0 | K39: 0 | L39: 0
A40: NPV | C40: 0
A41: IRR | C41: 0
A42: PBP | C42: 0
A43: DPBP | C43: 0
...

Sheet Ставка дисконтирования
A1: СТАВКА ДИСКОНТИРОВАНИЯ
C2: 2016 | D2: =C2+1 -> 2017 | E2: =D2+1 -> 2018 | F2: =E2+1 -> 2019 | G2: =F2+1 -> 2020 | H2: =G2+1 -> 2021 | I2: =H2+1 -> 2022 | J2: =I2+1 -> 2023 | K2: =J2+1 -> 2024 | ... Q2: =P2+1 -> 2030
A4: Расчет средневзвешенной стоимости капитала (WACC) в номинальном выражении
A5: Стоимость долга (RUR) | C5: =B51+B56 -> 0.1386 | D5: =C5 -> 0.1386 | E5: =D5 -> 0.1386 | F5: =E5 -> 0.1386 | G5: =F5 -> 0.1386 | H5: =G5 -> 0.1386 | I5: =H5 -> 0.1386 | J5: =I5 -> 0.1386 | K5: =J5 -> 0.1386 | ... Q5: =P5 -> 0.1386
A6: Доля долга | C6: =C42 -> 0.18790898 | D6: =D42 -> 0.18790898 | E6: =E42 -> 0.18790898 | F6: =F42 -> 0.18790898 | G6: =G42 -> 0.18790898 | H6: =H42 -> 0.18790898 | I6: =I42 -> 0.18790898 | J6: =J42 -> 0.18790898 | ... Q6: =Q42 -> 0.18790898
A7: Расчетная стоимость собственного капитала (RUR) | C7: =C22 -> 0.24973172 | D7: =D22 -> 0.24973172 | E7: =E22 -> 0.24973172 | F7: =F22 -> 0.24973172 | G7: =G22 -> 0.24973172 | H7: =H22 -> 0.24973172 | I7: =I22 -> 0.24973172 | J7: =J22 -> 0.24973172 | ... Q7: =Q22 -> 0.24973172
A8: Доля собственного капитала | C8: =C43 -> 0.81209102 | D8: =D43 -> 0.81209102 | E8: =E43 -> 0.81209102 | F8: =F43 -> 0.81209102 | G8: =G43 -> 0.81209102 | H8: =H43 -> 0.81209102 | I8: =I43 -> 0.81209102 | J8: =J43 -> 0.81209102 | ... Q8: =Q43 -> 0.81209102
A9: Ставка налога на прибыль | C9: =C28 -> 0.2 | D9: =D28 -> 0.2 | E9: =E28 -> 0.2 | F9: =F28 -> 0.2 | G9: =G28 -> 0.2 | H9: =H28 -> 0.2 | I9: =I28 -> 0.2 | J9: =J28 -> 0.2 | ... Q9: =Q28 -> 0.2
A10: Средневзвешенная стоимость капитала (RUR) | C10: =((C8*C7)+(C6*C5*(1-C9))) -> 0.22364023 | D10: =((D8*D7)+(D6*D5*(1-D9))) -> 0.22364023 | E10: =((E8*E7)+(E6*E5*(1-E9))) -> 0.22364023 | F10: =((F8*F7)+(F6*F5*(1-F9))) -> 0.22364023 | G10: =((G8*G7)+(G6*G5*(1-G9))) -> 0.22364023 | H10: =((H8*H7)+(H6*H5*(1-H9))) -> 0.22364023 | I10: =((I8*I7)+(I6*I5*(1-I9))) -> 0.22364023 | J10: =((J8*J7)+(J6*J5*(1-J9))) -> 0.22364023 | ... Q10: =((Q8*Q7)+(Q6*Q5*(1-Q9))) -> 0.22364023
A12: Расчет стоимости собственного капитала (CAPM) в номинальном выражении
A13: Безрисковая ставка | C13: =B48 -> 0.0257 | D13: =C13 -> 0.0257 | E13: =D13 -> 0.0257 | F13: =E13 -> 0.0257 | G13: =F13 -> 0.0257 | H13: =G13 -> 0.0257 | I13: =H13 -> 0.0257 | J13: =I13 -> 0.0257 | K13: =J13 -> 0.0257 | ... Q13: =P13 -> 0.0257
A14: Премия за риск вложения в акции | C14: =B49 -> 0.0462 | D14: =C14 -> 0.0462 | E14: =D14 -> 0.0462 | F14: =E14 -> 0.0462 | G14: =F14 -> 0.0462 | H14: =G14 -> 0.0462 | I14: =H14 -> 0.0462 | J14: =I14 -> 0.0462 | K14: =J14 -> 0.0462 | ... Q14: =P14 -> 0.0462
A15: Коэффициент бета СК фирмы с учетом долга | C15: =C29 -> 0.73776867 | D15: =D29 -> 0.73776867 | E15: =E29 -> 0.73776867 | F15: =F29 -> 0.73776867 | G15: =G29 -> 0.73776867 | H15: =H29 -> 0.73776867 | I15: =I29 -> 0.73776867 | J15: =J29 -> 0.73776867 | ... Q15: =Q29 -> 0.73776867
A16: Премия за страновой риск | C16: =B52 -> 0.0924 | D16: =C16 -> 0.0924 | E16: =D16 -> 0.0924 | F16: =E16 -> 0.0924 | G16: =F16 -> 0.0924 | H16: =G16 -> 0.0924 | I16: =H16 -> 0.0924 | J16: =I16 -> 0.0924 | K16: =J16 -> 0.0924 | ... Q16: =P16 -> 0.0924
A17: Премия за размер компании | C17: =B53 -> 0.0384 | D17: =C17 -> 0.0384 | E17: =D17 -> 0.0384 | F17: =E17 -> 0.0384 | G17: =F17 -> 0.0384 | H17: =G17 -> 0.0384 | I17: =H17 -> 0.0384 | J17: =I17 -> 0.0384 | K17: =J17 -> 0.0384 | ... Q17: =P17 -> 0.0384
A18: Премия за специфический риск компании | C18: =C39 -> 0.01 | D18: =D39 -> 0.01 | E18: =E39 -> 0.01 | F18: =F39 -> 0.01 | G18: =G39 -> 0.01 | H18: =H39 -> 0.01 | I18: =I39 -> 0.01 | J18: =J39 -> 0.01 | ... Q18: =Q39 -> 0.01
A19: Стоимость собственного капитала (US$) | C19: =(C13+C14*C15+C16+C17+C18) -> 0.20058491 | D19: =(D13+D14*D15+D16+D17+D18) -> 0.20058491 | E19: =(E13+E14*E15+E16+E17+E18) -> 0.20058491 | F19: =(F13+F14*F15+F16+F17+F18) -> 0.20058491 | G19: =(G13+G14*G15+G16+G17+G18) -> 0.20058491 | H19: =(H13+H14*H15+H16+H17+H18) -> 0.20058491 | I19: =(I13+I14*I15+I16+I17+I18) -> 0.20058491 | J19: =(J13+J14*J15+J16+J17+J18) -> 0.20058491 | ... Q19: =(Q13+Q14*Q15+Q16+Q17+Q18) -> 0.20058491
A20: Доходность еврооблигаций РФ | C20: =B50 -> 0.0361831 | D20: =C20 -> 0.0361831 | E20: =D20 -> 0.0361831 | F20: =E20 -> 0.0361831 | G20: =F20 -> 0.0361831 | H20: =G20 -> 0.0361831 | I20: =H20 -> 0.0361831 | J20: =I20 -> 0.0361831 | K20: =J20 -> 0.0361831 | ... Q20: =P20 -> 0.0361831
A21: Доходность ОФЗ | C21: =B51 -> 0.0786 | D21: =C21 -> 0.0786 | E21: =D21 -> 0.0786 | F21: =E21 -> 0.0786 | G21: =F21 -> 0.0786 | H21: =G21 -> 0.0786 | I21: =H21 -> 0.0786 | J21: =I21 -> 0.0786 | K21: =J21 -> 0.0786 | ... Q21: =P21 -> 0.0786
A22: Стоимость собственного капитала (RUR) | C22: =((1+C19)*((1+C21)/(1+C20))-1) -> 0.24973172 | D22: =((1+D19)*((1+D21)/(1+D20))-1) -> 0.24973172 | E22: =((1+E19)*((1+E21)/(1+E20))-1) -> 0.24973172 | F22: =((1+F19)*((1+F21)/(1+F20))-1) -> 0.24973172 | G22: =((1+G19)*((1+G21)/(1+G20))-1) -> 0.24973172 | H22: =((1+H19)*((1+H21)/(1+H20))-1) -> 0.24973172 | I22: =((1+I19)*((1+I21)/(1+I20))-1) -> 0.24973172 | J22: =((1+J19)*((1+J21)/(1+J20))-1) -> 0.24973172 | ... Q22: =((1+Q19)*((1+Q21)/(1+Q20))-1) -> 0.24973172
A24: Расчет коэффициента бета с учетом долга
A25: Коэффициент бета СК фирмы без учета долга | C25: =B54 -> 0.62253115 | D25: =C25 -> 0.62253115 | E25: =D25 -> 0.62253115 | F25: =E25 -> 0.62253115 | G25: =F25 -> 0.62253115 | H25: =G25 -> 0.62253115 | I25: =H25 -> 0.62253115 | J25: =I25 -> 0.62253115 | K25: =J25 -> 0.62253115 | ... Q25: =P25 -> 0.62253115
A26: Доля долга | C26: =C42 -> 0.18790898 | D26: =D42 -> 0.18790898 | E26: =E42 -> 0.18790898 | F26: =F42 -> 0.18790898 | G26: =G42 -> 0.18790898 | H26: =H42 -> 0.18790898 | I26: =I42 -> 0.18790898 | J26: =J42 -> 0.18790898 | ... Q26: =Q42 -> 0.18790898
A27: Доля собственного капитала | C27: =C43 -> 0.81209102 | D27: =D43 -> 0.81209102 | E27: =E43 -> 0.81209102 | F27: =F43 -> 0.81209102 | G27: =G43 -> 0.81209102 | H27: =H43 -> 0.81209102 | I27: =I43 -> 0.81209102 | J27: =J43 -> 0.81209102 | ... Q27: =Q43 -> 0.81209102
A28: Ставка налога на прибыль | C28: 0.2 | D28: 0.2 | E28: 0.2 | F28: 0.2 | G28: 0.2 | H28: 0.2 | I28: 0.2 | J28: 0.2 | K28: 0.2 | L28: 0.2 | M28: 0.2 | N28: 0.2 | O28: 0.2 | P28: 0.2 | Q28: 0.2
A29: Бета акционерного капитала с учетом структуры капитала | C29: =C25*(1+C26/C27*(1-C28)) -> 0.73776867 | D29: =D25*(1+D26/D27*(1-D28)) -> 0.73776867 | E29: =E25*(1+E26/E27*(1-E28)) -> 0.73776867 | F29: =F25*(1+F26/F27*(1-F28)) -> 0.73776867 | G29: =G25*(1+G26/G27*(1-G28)) -> 0.73776867 | H29: =H25*(1+H26/H27*(1-H28)) -> 0.73776867 | I29: =I25*(1+I26/I27*(1-I28)) -> 0.73776867 | J29: =J25*(1+J26/J27*(1-J28)) -> 0.73776867 | ... Q29: =Q25*(1+Q26/Q27*(1-Q28)) -> 0.73776867
A31: Расчет специфического риска компании
A32: Уровень отпускных цен | C32: 0.01 | D32: 0.01 | E32: 0.01 | F32: 0.01 | G32: 0.01 | H32: 0.01 | I32: 0.01 | J32: 0.01 | K32: 0.01 | L32: 0.01 | M32: 0.01 | N32: 0.01 | O32: 0.01 | P32: 0.01 | Q32: 0.01
A33: Зависимость от ключевых сотрудников
A34: Корпоративное управление
A35: Зависимость от ключевых потребителей | C35: 0.01 | D35: 0.01 | E35: 0.01 | F35: 0.01 | G35: 0.01 | H35: 0.01 | I35: 0.01 | J35: 0.01 | K35: 0.01 | L35: 0.01 | M35: 0.01 | N35: 0.01 | O35: 0.01 | P35: 0.01 | Q35: 0.01
A36: Зависимость от ключевых поставщиков | C36: 0.01 | D36: 0.01 | E36: 0.01 | F36: 0.01 | G36: 0.01 | H36: 0.01 | I36: 0.01 | J36: 0.01 | K36: 0.01 | L36: 0.01 | M36: 0.01 | N36: 0.01 | O36: 0.01 | P36: 0.01 | Q36: 0.01
A37: Наличие перспективы развития бизнеса
A38: Состояние основных фондов
A39: Премия за специфический риск компании | C39: =AVERAGE(C32:C38) -> 0.01 | D39: =AVERAGE(D32:D38) -> 0.01 | E39: =AVERAGE(E32:E38) -> 0.01 | F39: =AVERAGE(F32:F38) -> 0.01 | G39: =AVERAGE(G32:G38) -> 0.01 | H39: =AVERAGE(H32:H38) -> 0.01 | I39: =AVERAGE(I32:I38) -> 0.01 | J39: =AVERAGE(J32:J38) -> 0.01 | ... Q39: =AVERAGE(Q32:Q38) -> 0.01
A41: Структура капитала
A42: Доля долга (D) | C42: =C44/(1+C44) -> 0.18790898 | D42: =D44/(1+D44) -> 0.18790898 | E42: =E44/(1+E44) -> 0.18790898 | F42: =F44/(1+F44) -> 0.18790898 | G42: =G44/(1+G44) -> 0.18790898 | H42: =H44/(1+H44) -> 0.18790898 | I42: =I44/(1+I44) -> 0.18790898 | J42: =J44/(1+J44) -> 0.18790898 | ... Q42: =Q44/(1+Q44) -> 0.18790898
A43: Доля собственного капитала (E) | C43: =1-C42 -> 0.81209102 | D43: =1-D42 -> 0.81209102 | E43: =1-E42 -> 0.81209102 | F43: =1-F42 -> 0.81209102 | G43: =1-G42 -> 0.81209102 | H43: =1-H42 -> 0.81209102 | I43: =1-I42 -> 0.81209102 | J43: =1-J42 -> 0.81209102 | ... Q43: =1-Q42 -> 0.81209102
A44: D/E | C44: =B55 -> 0.23138906 | D44: =C44 -> 0.23138906 | E44: =D44 -> 0.23138906 | F44: =E44 -> 0.23138906 | G44: =F44 -> 0.23138906 | H44: =G44 -> 0.23138906 | I44: =H44 -> 0.23138906 | J44: =I44 -> 0.23138906 | K44: =J44 -> 0.23138906 | ... Q44: =P44 -> 0.23138906
A47: Показатель | C47: Источник
...
